BEGIN:VCALENDAR
VERSION:2.0
PRODID:-//CFS Western - ECPv6.15.18//NONSGML v1.0//EN
CALSCALE:GREGORIAN
METHOD:PUBLISH
X-ORIGINAL-URL:https://cfswestern.mb.ca
X-WR-CALDESC:Events for CFS Western
REFRESH-INTERVAL;VALUE=DURATION:PT1H
X-Robots-Tag:noindex
X-PUBLISHED-TTL:PT1H
BEGIN:VTIMEZONE
TZID:America/Los_Angeles
BEGIN:DAYLIGHT
TZOFFSETFROM:-0800
TZOFFSETTO:-0700
TZNAME:PDT
DTSTART:20230312T100000
END:DAYLIGHT
BEGIN:STANDARD
TZOFFSETFROM:-0700
TZOFFSETTO:-0800
TZNAME:PST
DTSTART:20231105T090000
END:STANDARD
BEGIN:DAYLIGHT
TZOFFSETFROM:-0800
TZOFFSETTO:-0700
TZNAME:PDT
DTSTART:20240310T100000
END:DAYLIGHT
BEGIN:STANDARD
TZOFFSETFROM:-0700
TZOFFSETTO:-0800
TZNAME:PST
DTSTART:20241103T090000
END:STANDARD
BEGIN:DAYLIGHT
TZOFFSETFROM:-0800
TZOFFSETTO:-0700
TZNAME:PDT
DTSTART:20250309T100000
END:DAYLIGHT
BEGIN:STANDARD
TZOFFSETFROM:-0700
TZOFFSETTO:-0800
TZNAME:PST
DTSTART:20251102T090000
END:STANDARD
END:VTIMEZONE
BEGIN:VEVENT
DTSTART;TZID=America/Los_Angeles:20241023T133000
DTEND;TZID=America/Los_Angeles:20241023T144500
DTSTAMP:20260425T043019
CREATED:20240819T170529Z
LAST-MODIFIED:20240815T191011Z
UID:5504-1729690200-1729694700@cfswestern.mb.ca
SUMMARY:Fit Kids
DESCRIPTION:FIT KIDS: Parents and children (2-6 years) \nJoin us to develop their movement skills through a fun approach. Let’s build positive emotions towards your child’s physical activity and create an “active for life” attitude. Wear comfy clothing and bring water bottles. \nWed. Afternoons 1:30 – 2:45 p.m. Oct. 16\, 23\, 30\, & Nov. 6/24
URL:https://cfswestern.mb.ca/event/fit-kids-5/
LOCATION:Elspeth Reid Family Resource Centre\, 255 – 9th Street\, Brandon\, MB\, R7A 6X1\, Canada
CATEGORIES:Family Activities
END:VEVENT
BEGIN:VEVENT
DTSTART;TZID=America/Los_Angeles:20241023T160000
DTEND;TZID=America/Los_Angeles:20241023T170000
DTSTAMP:20260425T043019
CREATED:20240819T170035Z
LAST-MODIFIED:20240815T185704Z
UID:5470-1729699200-1729702800@cfswestern.mb.ca
SUMMARY:Kids Club
DESCRIPTION:KIDS CLUB: FUN! FUN! FUN! Join us for an activity\, games and craft-based program for 7 – 12 year-olds. Snack included. \nWed. Afternoons 4:00 – 5:00 p.m. Sept. 11 & 25\, Oct. 9 & 23\, Nov. 6\, Dec. 4 & 18/24
URL:https://cfswestern.mb.ca/event/kids-club-16/
LOCATION:Elspeth Reid Family Resource Centre\, 255 – 9th Street\, Brandon\, MB\, R7A 6X1\, Canada
CATEGORIES:Family Activities
END:VEVENT
BEGIN:VEVENT
DTSTART;TZID=America/Los_Angeles:20241024T093000
DTEND;TZID=America/Los_Angeles:20241024T111500
DTSTAMP:20260425T043019
CREATED:20240819T170558Z
LAST-MODIFIED:20240815T170829Z
UID:5410-1729762200-1729768500@cfswestern.mb.ca
SUMMARY:PARENT CAFE
DESCRIPTION:PARENT CAFE: \nCafes are about having a safe space where parents can talk and listen to each other on topics that matter to you. We look at the challenges and victories of raising a family\, learn about wrapping our family in the protective factors\, and create strategies from your own wisdom and experiences to strengthen your family. \nThurs. Mornings 9:30 – 11:15 a.m. Oct. 3\, 10\, 17\, 24\, & Nov. 7/24
URL:https://cfswestern.mb.ca/event/parent-cafe-4/
LOCATION:Elspeth Reid Family Resource Centre\, 255 – 9th Street\, Brandon\, MB\, R7A 6X1\, Canada
CATEGORIES:Parent Education
END:VEVENT
BEGIN:VEVENT
DTSTART;TZID=America/Los_Angeles:20241024T133000
DTEND;TZID=America/Los_Angeles:20241024T151500
DTSTAMP:20260425T043019
CREATED:20240819T170517Z
LAST-MODIFIED:20240815T171248Z
UID:5420-1729776600-1729782900@cfswestern.mb.ca
SUMMARY:SELF CARE: (for parents and caregivers)
DESCRIPTION:SELF CARE: (for parents and caregivers) \nLet’s focus on the importance of self-care. Learn how taking simple steps to take care of ourselves can help us to take better care of our families. Each session will include a self-care activity\, and tips for getting the self-care you need\, as well as self-care items to take home. \nThurs. Afternoons: 1:30 – 3:15 p.m. Oct. 3\,10\, 17\, 24\, & 31/24
URL:https://cfswestern.mb.ca/event/self-care-for-parents-and-caregivers-11/
LOCATION:Elspeth Reid Family Resource Centre\, 255 – 9th Street\, Brandon\, MB\, R7A 6X1\, Canada
CATEGORIES:Parent Education
END:VEVENT
BEGIN:VEVENT
DTSTART;TZID=America/Los_Angeles:20241024T133000
DTEND;TZID=America/Los_Angeles:20241024T151500
DTSTAMP:20260425T043019
CREATED:20240819T170543Z
LAST-MODIFIED:20240815T170218Z
UID:5398-1729776600-1729782900@cfswestern.mb.ca
SUMMARY:BECAUSE I LOVE YOU
DESCRIPTION:BECAUSE I LOVE YOU: \nFor parents with young children who want to get to know other parents\, relax\, and have fun. Topics include: strengthening the bond with your young child\, childproofing and safety\, mealtimes\, routines\, brain building\, learning through play\, stress\, quality child care\, etc. \nThurs. Afternoons: 1:30 – 3:15 p.m. Sept. 19-Nov. 7/24
URL:https://cfswestern.mb.ca/event/because-i-love-you-31/
LOCATION:Elspeth Reid Family Resource Centre\, 255 – 9th Street\, Brandon\, MB\, R7A 6X1\, Canada
CATEGORIES:Parent Education
END:VEVENT
BEGIN:VEVENT
DTSTART;TZID=America/Los_Angeles:20241029T093000
DTEND;TZID=America/Los_Angeles:20241029T111500
DTSTAMP:20260425T043019
CREATED:20240819T170550Z
LAST-MODIFIED:20240815T165026Z
UID:5378-1730194200-1730200500@cfswestern.mb.ca
SUMMARY:POSITIVE DISCIPLINE IN EVERYDAY PARENTING
DESCRIPTION:POSITIVE DISCIPLINE IN EVERYDAY PARENTING: \nThis revised trauma informed program is for parents and caregivers of children of all ages .It provides interactive activities\, discussions\, self-regulation tools\, and problem-solving practices that strengthen parent child connection. Knowledge and preparation are key to handling challenging situations constructively. \nTues. Mornings: 9:30 – 11:15 a.m. Sept. 24-Nov. 26/24
URL:https://cfswestern.mb.ca/event/positive-discipline-in-everyday-parenting-6/
LOCATION:Elspeth Reid Family Resource Centre\, 255 – 9th Street\, Brandon\, MB\, R7A 6X1\, Canada
CATEGORIES:Parent Education
END:VEVENT
BEGIN:VEVENT
DTSTART;TZID=America/Los_Angeles:20241029T133000
DTEND;TZID=America/Los_Angeles:20241029T151500
DTSTAMP:20260425T043019
CREATED:20240819T170057Z
LAST-MODIFIED:20240815T141509Z
UID:5340-1730208600-1730214900@cfswestern.mb.ca
SUMMARY:Sexual Exploitation Children & Youth
DESCRIPTION:HEALTHY FAMILIES PROGRAM-COMMUNITY MATTERS: Are you confused about what resources and supports are available in our community? Come learn tips and get practical support. Each session is topic based. \n-Sexual Exploitation Children & Youth: Tues. PM 1:30–3:15 p.m. Oct. 29
URL:https://cfswestern.mb.ca/event/sexual-exploitation-children-youth/
LOCATION:Elspeth Reid Family Resource Centre\, 255 – 9th Street\, Brandon\, MB\, R7A 6X1\, Canada
CATEGORIES:Parent Education
END:VEVENT
BEGIN:VEVENT
DTSTART;TZID=America/Los_Angeles:20241030T093000
DTEND;TZID=America/Los_Angeles:20241030T101500
DTSTAMP:20260425T043019
CREATED:20240819T170855Z
LAST-MODIFIED:20240815T193233Z
UID:5542-1730280600-1730283300@cfswestern.mb.ca
SUMMARY:Family Circle AM
DESCRIPTION:FAMILY CIRCLE AM: Join our group of parents and babies that promotes early learning and literacy through rhymes\, songs\, stories\, and lullabies. \nWed. Mornings: 9:30–10:15 a.m. Sept. 25 – Oct. 30/24
URL:https://cfswestern.mb.ca/event/family-circle-am-4/
LOCATION:Elspeth Reid Family Resource Centre\, 255 – 9th Street\, Brandon\, MB\, R7A 6X1\, Canada
CATEGORIES:Family Activities
END:VEVENT
BEGIN:VEVENT
DTSTART;TZID=America/Los_Angeles:20241030T104500
DTEND;TZID=America/Los_Angeles:20241030T113000
DTSTAMP:20260425T043019
CREATED:20240819T170906Z
LAST-MODIFIED:20240815T193849Z
UID:5554-1730285100-1730287800@cfswestern.mb.ca
SUMMARY:Family Circle AM 2
DESCRIPTION:FAMILY CIRCLE AM 2: Join our group of parents and babies that promotes early learning and literacy through rhymes\, songs\, stories\, and lullabies. \nWed. Mornings: 10:45-11:30 a.m. Sept. 25 – Oct. 30/24
URL:https://cfswestern.mb.ca/event/family-circle-am-2-7/
LOCATION:Elspeth Reid Family Resource Centre\, 255 – 9th Street\, Brandon\, MB\, R7A 6X1\, Canada
CATEGORIES:Family Activities
END:VEVENT
BEGIN:VEVENT
DTSTART;TZID=America/Los_Angeles:20241030T133000
DTEND;TZID=America/Los_Angeles:20241030T144500
DTSTAMP:20260425T043019
CREATED:20240819T170518Z
LAST-MODIFIED:20240815T191055Z
UID:5506-1730295000-1730299500@cfswestern.mb.ca
SUMMARY:Fit Kids
DESCRIPTION:FIT KIDS: Parents and children (2-6 years) \nJoin us to develop their movement skills through a fun approach. Let’s build positive emotions towards your child’s physical activity and create an “active for life” attitude. Wear comfy clothing and bring water bottles. \nWed. Afternoons 1:30 – 2:45 p.m. Oct. 16\, 23\, 30\, & Nov. 6/24
URL:https://cfswestern.mb.ca/event/fit-kids-6/
LOCATION:Elspeth Reid Family Resource Centre\, 255 – 9th Street\, Brandon\, MB\, R7A 6X1\, Canada
CATEGORIES:Family Activities
END:VEVENT
BEGIN:VEVENT
DTSTART;TZID=America/Los_Angeles:20241031T100000
DTEND;TZID=America/Los_Angeles:20241031T111500
DTSTAMP:20260425T043019
CREATED:20240819T171134Z
LAST-MODIFIED:20240815T191212Z
UID:5510-1730368800-1730373300@cfswestern.mb.ca
SUMMARY:HALLOWEEN HOWL
DESCRIPTION:HALLOWEEN HOWL: Parents & children (Ages 0-5 years). Wear your costume and come Trick or Treating at the Resource Centre. Celebrate indoors and enjoy crafts\, activities\, music\, and play. Come for the treats and stay for the fun! Transportation provided if needed. \nThurs. Morning 10:00 – 11:15 a.m. Oct. 31/24
URL:https://cfswestern.mb.ca/event/halloween-howl/
LOCATION:Elspeth Reid Family Resource Centre\, 255 – 9th Street\, Brandon\, MB\, R7A 6X1\, Canada
CATEGORIES:Family Activities
END:VEVENT
BEGIN:VEVENT
DTSTART;TZID=America/Los_Angeles:20241031T133000
DTEND;TZID=America/Los_Angeles:20241031T151500
DTSTAMP:20260425T043019
CREATED:20240819T170523Z
LAST-MODIFIED:20240815T170440Z
UID:5400-1730381400-1730387700@cfswestern.mb.ca
SUMMARY:BECAUSE I LOVE YOU
DESCRIPTION:BECAUSE I LOVE YOU: \nFor parents with young children who want to get to know other parents\, relax\, and have fun. Topics include: strengthening the bond with your young child\, childproofing and safety\, mealtimes\, routines\, brain building\, learning through play\, stress\, quality child care\, etc. \nThurs. Afternoons: 1:30 – 3:15 p.m. Sept. 19-Nov. 7/24
URL:https://cfswestern.mb.ca/event/because-i-love-you-32/
LOCATION:Elspeth Reid Family Resource Centre\, 255 – 9th Street\, Brandon\, MB\, R7A 6X1\, Canada
CATEGORIES:Parent Education
END:VEVENT
BEGIN:VEVENT
DTSTART;TZID=America/Los_Angeles:20241031T133000
DTEND;TZID=America/Los_Angeles:20241031T151500
DTSTAMP:20260425T043019
CREATED:20240819T170556Z
LAST-MODIFIED:20240815T171323Z
UID:5422-1730381400-1730387700@cfswestern.mb.ca
SUMMARY:SELF CARE: (for parents and caregivers)
DESCRIPTION:SELF CARE: (for parents and caregivers) \nLet’s focus on the importance of self-care. Learn how taking simple steps to take care of ourselves can help us to take better care of our families. Each session will include a self-care activity\, and tips for getting the self-care you need\, as well as self-care items to take home. \nThurs. Afternoons: 1:30 – 3:15 p.m. Oct. 3\,10\, 17\, 24\, & 31/24
URL:https://cfswestern.mb.ca/event/self-care-for-parents-and-caregivers-12/
LOCATION:Elspeth Reid Family Resource Centre\, 255 – 9th Street\, Brandon\, MB\, R7A 6X1\, Canada
CATEGORIES:Parent Education
END:VEVENT
BEGIN:VEVENT
DTSTART;TZID=America/Los_Angeles:20241101T093000
DTEND;TZID=America/Los_Angeles:20241101T111500
DTSTAMP:20260425T043019
CREATED:20240819T171839Z
LAST-MODIFIED:20240815T194720Z
UID:5570-1730453400-1730459700@cfswestern.mb.ca
SUMMARY:Friday Drop-in Playtime AM
DESCRIPTION:FRIDAY DROP-IN PLAYTIME AM: An opportunity for parents and children to play together in our childcare space. Snack\, crafts\, and story time provided. \nFrid. Mornings 9:30 – 11:15 a.m. Sept. 6-Dec. 20/24 (not Oct. 25)
URL:https://cfswestern.mb.ca/event/friday-drop-in-playtime-am-8/
LOCATION:Elspeth Reid Family Resource Centre\, 255 – 9th Street\, Brandon\, MB\, R7A 6X1\, Canada
CATEGORIES:Family Activities
END:VEVENT
BEGIN:VEVENT
DTSTART;TZID=America/Los_Angeles:20241101T133000
DTEND;TZID=America/Los_Angeles:20241101T151500
DTSTAMP:20260425T043019
CREATED:20240819T170930Z
LAST-MODIFIED:20240815T200214Z
UID:5602-1730467800-1730474100@cfswestern.mb.ca
SUMMARY:Friday Drop-in Playtime PM
DESCRIPTION:FRIDAY DROP-IN PLAYTIME PM: An opportunity for parents and children to play together in our childcare space. Snack\, crafts\, and story time provided. \nFri. Afternoons 1:30 – 3:15 p.m. Sept. 6-Dec. 20/24 (not Oct. 25)
URL:https://cfswestern.mb.ca/event/friday-drop-in-playtime-pm-9/
LOCATION:Elspeth Reid Family Resource Centre\, 255 – 9th Street\, Brandon\, MB\, R7A 6X1\, Canada
CATEGORIES:Family Activities
END:VEVENT
BEGIN:VEVENT
DTSTART;TZID=America/Los_Angeles:20241104T100000
DTEND;TZID=America/Los_Angeles:20241104T111500
DTSTAMP:20260425T043019
CREATED:20240819T171051Z
LAST-MODIFIED:20240815T190623Z
UID:5494-1730714400-1730718900@cfswestern.mb.ca
SUMMARY:Funday Monday
DESCRIPTION:FUNDAY MONDAY – FUN FOR PARENT & CHILD: \nStart the week off with a fun and relaxed “play date” in our drop-in space. Join other caregivers and kiddos for some fun and connection. All ages welcome! If a ride is required\, call the Centre. \n10:00 – 11:15 a.m. Sept. 9\, 23\, Oct. 7\, 21\, Nov. 4\, 18\, & Dec. 9/24
URL:https://cfswestern.mb.ca/event/funday-monday-11/
LOCATION:Elspeth Reid Family Resource Centre\, 255 – 9th Street\, Brandon\, MB\, R7A 6X1\, Canada
CATEGORIES:Family Activities
END:VEVENT
BEGIN:VEVENT
DTSTART;TZID=America/Los_Angeles:20241105T093000
DTEND;TZID=America/Los_Angeles:20241105T111500
DTSTAMP:20260425T043019
CREATED:20240819T170535Z
LAST-MODIFIED:20240815T165118Z
UID:5380-1730799000-1730805300@cfswestern.mb.ca
SUMMARY:POSITIVE DISCIPLINE IN EVERYDAY PARENTING
DESCRIPTION:POSITIVE DISCIPLINE IN EVERYDAY PARENTING: \nThis revised trauma informed program is for parents and caregivers of children of all ages .It provides interactive activities\, discussions\, self-regulation tools\, and problem-solving practices that strengthen parent child connection. Knowledge and preparation are key to handling challenging situations constructively. \nTues. Mornings: 9:30 – 11:15 a.m. Sept. 24-Nov. 26/24
URL:https://cfswestern.mb.ca/event/positive-discipline-in-everyday-parenting-7/
LOCATION:Elspeth Reid Family Resource Centre\, 255 – 9th Street\, Brandon\, MB\, R7A 6X1\, Canada
CATEGORIES:Parent Education
END:VEVENT
BEGIN:VEVENT
DTSTART;TZID=America/Los_Angeles:20241105T133000
DTEND;TZID=America/Los_Angeles:20241105T151500
DTSTAMP:20260425T043019
CREATED:20240819T170518Z
LAST-MODIFIED:20240815T172200Z
UID:5430-1730813400-1730819700@cfswestern.mb.ca
SUMMARY:PARENTING WITH A PARTNER
DESCRIPTION:PARENTING WITH A PARTNER: \nA look at how we can work co-operatively as parents to reach our long-term parenting goals\, while respecting each other’s points of view. \nTues. Afternoons: 1:30 – 3:15 p.m. Nov. 5 & 12/24
URL:https://cfswestern.mb.ca/event/parenting-with-a-partner/
LOCATION:Elspeth Reid Family Resource Centre\, 255 – 9th Street\, Brandon\, MB\, R7A 6X1\, Canada
CATEGORIES:Parent Education
END:VEVENT
BEGIN:VEVENT
DTSTART;TZID=America/Los_Angeles:20241106T093000
DTEND;TZID=America/Los_Angeles:20241106T110000
DTSTAMP:20260425T043019
CREATED:20240819T171058Z
LAST-MODIFIED:20240815T190038Z
UID:5480-1730885400-1730890800@cfswestern.mb.ca
SUMMARY:BABY PLAY
DESCRIPTION:BABY PLAY: Playdates are valuable opportunities for children to promote their social development and enhance their interaction skills. Join us in our child care room for Baby Play. Older siblings (5 and under) are welcome to join. Transportation provided if needed. \nWed. Mornings: 9:30 – 11:00 a.m. Nov. 6\, 13\, & 20/24
URL:https://cfswestern.mb.ca/event/baby-play/
LOCATION:Elspeth Reid Family Resource Centre\, 255 – 9th Street\, Brandon\, MB\, R7A 6X1\, Canada
CATEGORIES:Family Activities
END:VEVENT
BEGIN:VEVENT
DTSTART;TZID=America/Los_Angeles:20241106T133000
DTEND;TZID=America/Los_Angeles:20241106T144500
DTSTAMP:20260425T043019
CREATED:20240819T171100Z
LAST-MODIFIED:20240815T191128Z
UID:5508-1730899800-1730904300@cfswestern.mb.ca
SUMMARY:Fit Kids
DESCRIPTION:FIT KIDS: Parents and children (2-6 years) \nJoin us to develop their movement skills through a fun approach. Let’s build positive emotions towards your child’s physical activity and create an “active for life” attitude. Wear comfy clothing and bring water bottles. \nWed. Afternoons 1:30 – 2:45 p.m. Oct. 16\, 23\, 30\, & Nov. 6/24
URL:https://cfswestern.mb.ca/event/fit-kids-7/
LOCATION:Elspeth Reid Family Resource Centre\, 255 – 9th Street\, Brandon\, MB\, R7A 6X1\, Canada
CATEGORIES:Family Activities
END:VEVENT
BEGIN:VEVENT
DTSTART;TZID=America/Los_Angeles:20241106T160000
DTEND;TZID=America/Los_Angeles:20241106T170000
DTSTAMP:20260425T043019
CREATED:20240819T171011Z
LAST-MODIFIED:20240815T185744Z
UID:5472-1730908800-1730912400@cfswestern.mb.ca
SUMMARY:Kids Club
DESCRIPTION:KIDS CLUB: FUN! FUN! FUN! Join us for an activity\, games and craft-based program for 7 – 12 year-olds. Snack included. \nWed. Afternoons 4:00 – 5:00 p.m. Sept. 11 & 25\, Oct. 9 & 23\, Nov. 6\, Dec. 4 & 18/24
URL:https://cfswestern.mb.ca/event/kids-club-17/
LOCATION:Elspeth Reid Family Resource Centre\, 255 – 9th Street\, Brandon\, MB\, R7A 6X1\, Canada
CATEGORIES:Family Activities
END:VEVENT
BEGIN:VEVENT
DTSTART;TZID=America/Los_Angeles:20241107T093000
DTEND;TZID=America/Los_Angeles:20241107T111500
DTSTAMP:20260425T043019
CREATED:20240819T170535Z
LAST-MODIFIED:20240815T170926Z
UID:5412-1730971800-1730978100@cfswestern.mb.ca
SUMMARY:PARENT CAFE
DESCRIPTION:PARENT CAFE: \nCafes are about having a safe space where parents can talk and listen to each other on topics that matter to you. We look at the challenges and victories of raising a family\, learn about wrapping our family in the protective factors\, and create strategies from your own wisdom and experiences to strengthen your family. \nThurs. Mornings 9:30 – 11:15 a.m. Oct. 3\, 10\, 17\, 24\, & Nov. 7/24
URL:https://cfswestern.mb.ca/event/parent-cafe-5/
LOCATION:Elspeth Reid Family Resource Centre\, 255 – 9th Street\, Brandon\, MB\, R7A 6X1\, Canada
CATEGORIES:Parent Education
END:VEVENT
BEGIN:VEVENT
DTSTART;TZID=America/Los_Angeles:20241107T133000
DTEND;TZID=America/Los_Angeles:20241107T151500
DTSTAMP:20260425T043019
CREATED:20240819T170550Z
LAST-MODIFIED:20240815T172335Z
UID:5434-1730986200-1730992500@cfswestern.mb.ca
SUMMARY:PARENTING GOALS
DESCRIPTION:PARENTING GOALS: \nGoals play a vital role in parenting. They are a road map that provides clarity\, direction\, and focus. We’ll learn about S.M.A.R.T goals and how truly impactful goal setting can be on our families and our relationships. \nThurs. Afternoons: 1:30 – 3:15 p.m. Nov. 7\, 14\, and 21/24
URL:https://cfswestern.mb.ca/event/parenting-goals/
LOCATION:Elspeth Reid Family Resource Centre\, 255 – 9th Street\, Brandon\, MB\, R7A 6X1\, Canada
CATEGORIES:Parent Education
END:VEVENT
BEGIN:VEVENT
DTSTART;TZID=America/Los_Angeles:20241107T133000
DTEND;TZID=America/Los_Angeles:20241107T151500
DTSTAMP:20260425T043019
CREATED:20240819T170554Z
LAST-MODIFIED:20240815T170524Z
UID:5402-1730986200-1730992500@cfswestern.mb.ca
SUMMARY:BECAUSE I LOVE YOU
DESCRIPTION:BECAUSE I LOVE YOU: \nFor parents with young children who want to get to know other parents\, relax\, and have fun. Topics include: strengthening the bond with your young child\, childproofing and safety\, mealtimes\, routines\, brain building\, learning through play\, stress\, quality child care\, etc. \nThurs. Afternoons: 1:30 – 3:15 p.m. Sept. 19-Nov. 7/24
URL:https://cfswestern.mb.ca/event/because-i-love-you-33/
LOCATION:Elspeth Reid Family Resource Centre\, 255 – 9th Street\, Brandon\, MB\, R7A 6X1\, Canada
CATEGORIES:Parent Education
END:VEVENT
BEGIN:VEVENT
DTSTART;TZID=America/Los_Angeles:20241108T093000
DTEND;TZID=America/Los_Angeles:20241108T111500
DTSTAMP:20260425T043019
CREATED:20240819T171827Z
LAST-MODIFIED:20240815T194811Z
UID:5572-1731058200-1731064500@cfswestern.mb.ca
SUMMARY:Friday Drop-in Playtime AM
DESCRIPTION:FRIDAY DROP-IN PLAYTIME AM: An opportunity for parents and children to play together in our childcare space. Snack\, crafts\, and story time provided. \nFrid. Mornings 9:30 – 11:15 a.m. Sept. 6-Dec. 20/24 (not Oct. 25)
URL:https://cfswestern.mb.ca/event/friday-drop-in-playtime-am-9/
LOCATION:Elspeth Reid Family Resource Centre\, 255 – 9th Street\, Brandon\, MB\, R7A 6X1\, Canada
CATEGORIES:Family Activities
END:VEVENT
BEGIN:VEVENT
DTSTART;TZID=America/Los_Angeles:20241108T133000
DTEND;TZID=America/Los_Angeles:20241108T151500
DTSTAMP:20260425T043019
CREATED:20240819T170928Z
LAST-MODIFIED:20240815T200035Z
UID:5600-1731072600-1731078900@cfswestern.mb.ca
SUMMARY:Friday Drop-in Playtime PM
DESCRIPTION:FRIDAY DROP-IN PLAYTIME PM: An opportunity for parents and children to play together in our childcare space. Snack\, crafts\, and story time provided. \nFri. Afternoons 1:30 – 3:15 p.m. Sept. 6-Dec. 20/24 (not Oct. 25)
URL:https://cfswestern.mb.ca/event/friday-drop-in-playtime-pm-8/
LOCATION:Elspeth Reid Family Resource Centre\, 255 – 9th Street\, Brandon\, MB\, R7A 6X1\, Canada
CATEGORIES:Family Activities
END:VEVENT
BEGIN:VEVENT
DTSTART;TZID=America/Los_Angeles:20241112T093000
DTEND;TZID=America/Los_Angeles:20241112T111500
DTSTAMP:20260425T043019
CREATED:20240819T170524Z
LAST-MODIFIED:20240815T165159Z
UID:5382-1731403800-1731410100@cfswestern.mb.ca
SUMMARY:POSITIVE DISCIPLINE IN EVERYDAY PARENTING
DESCRIPTION:POSITIVE DISCIPLINE IN EVERYDAY PARENTING: \nThis revised trauma informed program is for parents and caregivers of children of all ages .It provides interactive activities\, discussions\, self-regulation tools\, and problem-solving practices that strengthen parent child connection. Knowledge and preparation are key to handling challenging situations constructively. \nTues. Mornings: 9:30 – 11:15 a.m. Sept. 24-Nov. 26/24
URL:https://cfswestern.mb.ca/event/positive-discipline-in-everyday-parenting-8/
LOCATION:Elspeth Reid Family Resource Centre\, 255 – 9th Street\, Brandon\, MB\, R7A 6X1\, Canada
CATEGORIES:Parent Education
END:VEVENT
BEGIN:VEVENT
DTSTART;TZID=America/Los_Angeles:20241112T133000
DTEND;TZID=America/Los_Angeles:20241112T151500
DTSTAMP:20260425T043019
CREATED:20240819T170508Z
LAST-MODIFIED:20240815T172244Z
UID:5432-1731418200-1731424500@cfswestern.mb.ca
SUMMARY:PARENTING WITH A PARTNER
DESCRIPTION:PARENTING WITH A PARTNER: \nA look at how we can work co-operatively as parents to reach our long-term parenting goals\, while respecting each other’s points of view. \nTues. Afternoons: 1:30 – 3:15 p.m. Nov. 5 & 12/24
URL:https://cfswestern.mb.ca/event/parenting-with-a-partner-2/
LOCATION:Elspeth Reid Family Resource Centre\, 255 – 9th Street\, Brandon\, MB\, R7A 6X1\, Canada
CATEGORIES:Parent Education
END:VEVENT
BEGIN:VEVENT
DTSTART;TZID=America/Los_Angeles:20241113T093000
DTEND;TZID=America/Los_Angeles:20241113T110000
DTSTAMP:20260425T043019
CREATED:20240819T171549Z
LAST-MODIFIED:20240815T190125Z
UID:5482-1731490200-1731495600@cfswestern.mb.ca
SUMMARY:Baby Play
DESCRIPTION:BABY PLAY: Playdates are valuable opportunities for children to promote their social development and enhance their interaction skills. Join us in our child care room for Baby Play. Older siblings (5 and under) are welcome to join. Transportation provided if needed. \nWed. Mornings: 9:30 – 11:00 a.m. Nov. 6\, 13\, & 20/24
URL:https://cfswestern.mb.ca/event/baby-play-2/
LOCATION:Elspeth Reid Family Resource Centre\, 255 – 9th Street\, Brandon\, MB\, R7A 6X1\, Canada
CATEGORIES:Family Activities
END:VEVENT
BEGIN:VEVENT
DTSTART;TZID=America/Los_Angeles:20241113T133000
DTEND;TZID=America/Los_Angeles:20241113T151500
DTSTAMP:20260425T043019
CREATED:20240819T170016Z
LAST-MODIFIED:20240815T141602Z
UID:5342-1731504600-1731510900@cfswestern.mb.ca
SUMMARY:Addictions
DESCRIPTION:HEALTHY FAMILIES PROGRAM-COMMUNITY MATTERS: Are you confused about what resources and supports are available in our community? Come learn tips and get practical support. Each session is topic based. \n-Addictions: Wed. PM 1:30–3:15 p.m. Nov. 13/24
URL:https://cfswestern.mb.ca/event/addictions/
LOCATION:Elspeth Reid Family Resource Centre\, 255 – 9th Street\, Brandon\, MB\, R7A 6X1\, Canada
CATEGORIES:Parent Education
END:VEVENT
END:VCALENDAR