BEGIN:VCALENDAR
VERSION:2.0
PRODID:-//CFS Western - ECPv6.15.18//NONSGML v1.0//EN
CALSCALE:GREGORIAN
METHOD:PUBLISH
X-ORIGINAL-URL:https://cfswestern.mb.ca
X-WR-CALDESC:Events for CFS Western
REFRESH-INTERVAL;VALUE=DURATION:PT1H
X-Robots-Tag:noindex
X-PUBLISHED-TTL:PT1H
BEGIN:VTIMEZONE
TZID:America/Los_Angeles
BEGIN:DAYLIGHT
TZOFFSETFROM:-0800
TZOFFSETTO:-0700
TZNAME:PDT
DTSTART:20230312T100000
END:DAYLIGHT
BEGIN:STANDARD
TZOFFSETFROM:-0700
TZOFFSETTO:-0800
TZNAME:PST
DTSTART:20231105T090000
END:STANDARD
BEGIN:DAYLIGHT
TZOFFSETFROM:-0800
TZOFFSETTO:-0700
TZNAME:PDT
DTSTART:20240310T100000
END:DAYLIGHT
BEGIN:STANDARD
TZOFFSETFROM:-0700
TZOFFSETTO:-0800
TZNAME:PST
DTSTART:20241103T090000
END:STANDARD
BEGIN:DAYLIGHT
TZOFFSETFROM:-0800
TZOFFSETTO:-0700
TZNAME:PDT
DTSTART:20250309T100000
END:DAYLIGHT
BEGIN:STANDARD
TZOFFSETFROM:-0700
TZOFFSETTO:-0800
TZNAME:PST
DTSTART:20251102T090000
END:STANDARD
END:VTIMEZONE
BEGIN:VEVENT
DTSTART;TZID=America/Los_Angeles:20240917T093000
DTEND;TZID=America/Los_Angeles:20240917T111500
DTSTAMP:20260419T060256
CREATED:20240819T170030Z
LAST-MODIFIED:20240815T142729Z
UID:5362-1726565400-1726571700@cfswestern.mb.ca
SUMMARY:THE 5 W’S of TIME-INS
DESCRIPTION:THE 5 W’S of TIME-INS: \nCome explore the 5 W’s of Time In and bring some P.E.A.C.E. to your relationships. (Pause\, empathy\, accessibility\, connecting the dots\, engaging\, and staying close.) \nTues. Morning 9:30-11:15 a.m. Sept. 17/24
URL:https://cfswestern.mb.ca/event/the-5-ws-of-time-ins/
LOCATION:Elspeth Reid Family Resource Centre\, 255 – 9th Street\, Brandon\, MB\, R7A 6X1\, Canada
CATEGORIES:Parent Education
END:VEVENT
BEGIN:VEVENT
DTSTART;TZID=America/Los_Angeles:20240917T133000
DTEND;TZID=America/Los_Angeles:20240917T151500
DTSTAMP:20260419T060256
CREATED:20240819T170026Z
LAST-MODIFIED:20240815T141033Z
UID:5332-1726579800-1726586100@cfswestern.mb.ca
SUMMARY:SHARE\, LEARN\, CREATE
DESCRIPTION:SHARE\, LEARN\, CREATE: \nCome together with other care-givers to focus on YOU and your wellness. Let’s get together to connect with each other and to use our creativity and self-expression to explore ideas that contribute to your health\, happiness\, and well-being. \nTues. Afternoons 1:30-3:15 p.m. Sept. 10\, 17\, 24 & Oct. 1/24
URL:https://cfswestern.mb.ca/event/share-learn-create-2/
LOCATION:Elspeth Reid Family Resource Centre\, 255 – 9th Street\, Brandon\, MB\, R7A 6X1\, Canada
CATEGORIES:Parent Education
END:VEVENT
BEGIN:VEVENT
DTSTART;TZID=America/Los_Angeles:20240917T173000
DTEND;TZID=America/Los_Angeles:20240917T190000
DTSTAMP:20260419T060256
CREATED:20240819T170040Z
LAST-MODIFIED:20240815T190820Z
UID:5500-1726594200-1726599600@cfswestern.mb.ca
SUMMARY:FAMILY FUN GAMES NIGHT:
DESCRIPTION:FAMILY FUN GAMES NIGHT: Join us for a fun family night of games\, activities\, and snacks! Prizes will be up for grabs! \nTues. Evening 5:30 – 7:00 p.m. Sept. 17/24
URL:https://cfswestern.mb.ca/event/family-fun-games-night/
LOCATION:Elspeth Reid Family Resource Centre\, 255 – 9th Street\, Brandon\, MB\, R7A 6X1\, Canada
CATEGORIES:Family Activities
END:VEVENT
BEGIN:VEVENT
DTSTART;TZID=America/Los_Angeles:20240918T093000
DTEND;TZID=America/Los_Angeles:20240918T110000
DTSTAMP:20260419T060256
CREATED:20240819T170058Z
LAST-MODIFIED:20240815T185938Z
UID:5478-1726651800-1726657200@cfswestern.mb.ca
SUMMARY:CAMPING IN THE COURTYARD: Parents and children (Ages 0-5)
DESCRIPTION:CAMPING IN THE COURTYARD: Parents and children (Ages 0-5) \nCome for a morning of camping experiences with your family. Spending time outside provides children with the opportunity to explore\, discover and appreciate nature. Enjoy sensory rich experiences and physical activity for our minds and bodies. Transportation provided if need. \nWed. Morning 9:30 – 11:00 a.m. Sept. 18/24
URL:https://cfswestern.mb.ca/event/camping-in-the-courtyard-parents-and-children-ages-0-5/
LOCATION:Elspeth Reid Family Resource Centre\, 255 – 9th Street\, Brandon\, MB\, R7A 6X1\, Canada
CATEGORIES:Family Activities
END:VEVENT
BEGIN:VEVENT
DTSTART;TZID=America/Los_Angeles:20240918T133000
DTEND;TZID=America/Los_Angeles:20240918T151500
DTSTAMP:20260419T060256
CREATED:20240819T170041Z
LAST-MODIFIED:20240815T142856Z
UID:5364-1726666200-1726672500@cfswestern.mb.ca
SUMMARY:Tricky People
DESCRIPTION:INSTEAD OF “STRANGER Danger” you need to teach your child about “Tricky People”: For parents with children one year and over. Come learn how to educate your child to be aware of “Tricky People” not just “Stranger Danger”. \nWed. Afternoons: 1:30 – 3:15 p.m. Sept. 18 & 25/24
URL:https://cfswestern.mb.ca/event/tricky-people/
LOCATION:Elspeth Reid Family Resource Centre\, 255 – 9th Street\, Brandon\, MB\, R7A 6X1\, Canada
CATEGORIES:Parent Education
END:VEVENT
BEGIN:VEVENT
DTSTART;TZID=America/Los_Angeles:20240918T183000
DTEND;TZID=America/Los_Angeles:20240918T203000
DTSTAMP:20260419T060256
CREATED:20240819T171420Z
LAST-MODIFIED:20240815T201028Z
UID:5616-1726684200-1726691400@cfswestern.mb.ca
SUMMARY:Circle of Sharing
DESCRIPTION:CIRCLE OF SHARING: Join us monthly evening session of parenting connection and reflection. This safe space allows us to explore the joys and challenges of parenting with the focus of strengthening family relationships and building community connections.  \nWed. Evenings: 6:30-8:30 p.m. Sept. 18\, Oct. 16\, Nov. 20\, Dec. 11/24
URL:https://cfswestern.mb.ca/event/circle-of-sharing-4/
LOCATION:Elspeth Reid Family Resource Centre\, 255 – 9th Street\, Brandon\, MB\, R7A 6X1\, Canada
CATEGORIES:Support Groups
END:VEVENT
BEGIN:VEVENT
DTSTART;TZID=America/Los_Angeles:20240919T093000
DTEND;TZID=America/Los_Angeles:20240919T111500
DTSTAMP:20260419T060256
CREATED:20240819T170020Z
LAST-MODIFIED:20240815T141758Z
UID:5346-1726738200-1726744500@cfswestern.mb.ca
SUMMARY:TRADITIONAL INDIGENOUS PARENTING
DESCRIPTION:TRADITIONAL INDIGENOUS PARENTING: \nPlease join us for 3 weeks of sharing with Deborah Tacan as we learn about our past\, present\, and future as Indigenous peoples. Together\, we will share about the Traditions and learn how these Teachings apply to our family life. Sessions will include hands on activities\, healing\, and a sharing time. \nThurs. Mornings: 9:30 – 11:15 a.m. Sept. 12\, 19\, and 26/24
URL:https://cfswestern.mb.ca/event/traditional-indigenous-parenting-5/
LOCATION:Elspeth Reid Family Resource Centre\, 255 – 9th Street\, Brandon\, MB\, R7A 6X1\, Canada
CATEGORIES:Parent Education
END:VEVENT
BEGIN:VEVENT
DTSTART;TZID=America/Los_Angeles:20240919T133000
DTEND;TZID=America/Los_Angeles:20240919T151500
DTSTAMP:20260419T060256
CREATED:20240819T170545Z
LAST-MODIFIED:20240815T165522Z
UID:5388-1726752600-1726758900@cfswestern.mb.ca
SUMMARY:BECAUSE I LOVE YOU
DESCRIPTION:BECAUSE I LOVE YOU: \nFor parents with young children who want to get to know other parents\, relax\, and have fun. Topics include: strengthening the bond with your young child\, childproofing and safety\, mealtimes\, routines\, brain building\, learning through play\, stress\, quality child care\, etc. \nThurs. Afternoons: 1:30 – 3:15 p.m. Sept. 19-Nov. 7/24
URL:https://cfswestern.mb.ca/event/because-i-love-you-26/
LOCATION:Elspeth Reid Family Resource Centre\, 255 – 9th Street\, Brandon\, MB\, R7A 6X1\, Canada
CATEGORIES:Parent Education
END:VEVENT
BEGIN:VEVENT
DTSTART;TZID=America/Los_Angeles:20240920T093000
DTEND;TZID=America/Los_Angeles:20240920T111500
DTSTAMP:20260419T060256
CREATED:20240819T171144Z
LAST-MODIFIED:20240815T194243Z
UID:5560-1726824600-1726830900@cfswestern.mb.ca
SUMMARY:Friday Drop-In Playtime AM
DESCRIPTION:FRIDAY DROP-IN PLAYTIME AM: An opportunity for parents and children to play together in our childcare space. Snack\, crafts\, and story time provided. \nFrid. Mornings 9:30 – 11:15 a.m. Sept. 6-Dec. 20/24 (not Oct. 25)
URL:https://cfswestern.mb.ca/event/friday-drop-in-playtime-am-3/
LOCATION:Elspeth Reid Family Resource Centre\, 255 – 9th Street\, Brandon\, MB\, R7A 6X1\, Canada
CATEGORIES:Family Activities
END:VEVENT
BEGIN:VEVENT
DTSTART;TZID=America/Los_Angeles:20240920T133000
DTEND;TZID=America/Los_Angeles:20240920T141500
DTSTAMP:20260419T060256
CREATED:20240819T171603Z
LAST-MODIFIED:20240815T191559Z
UID:5518-1726839000-1726841700@cfswestern.mb.ca
SUMMARY:READING CIRCLE
DESCRIPTION:READING CIRCLE: Join us for drop-in songs\, rhymes and stories that help build early literacy skills. Snack included. All ages welcome!! Public Library Downtown location. \nFri. PM 1:30 – 2:15 p.m. Sept. 20\, Oct. 18\, Nov. 15 & Dec. 15/24
URL:https://cfswestern.mb.ca/event/reading-circle-7/
LOCATION:Public Library Downtown\, 710 Rosser Ave\, Brandon\, Manitoba\, R7A 0K9\, Canada
CATEGORIES:Family Activities
END:VEVENT
BEGIN:VEVENT
DTSTART;TZID=America/Los_Angeles:20240920T133000
DTEND;TZID=America/Los_Angeles:20240920T151500
DTSTAMP:20260419T060256
CREATED:20240819T170756Z
LAST-MODIFIED:20240815T195547Z
UID:5590-1726839000-1726845300@cfswestern.mb.ca
SUMMARY:Friday Drop-in Playtime PM
DESCRIPTION:FRIDAY DROP-IN PLAYTIME PM: An opportunity for parents and children to play together in our childcare space. Snack\, crafts\, and story time provided. \nFri. Afternoons 1:30 – 3:15 p.m. Sept. 6-Dec. 20/24 (not Oct. 25)
URL:https://cfswestern.mb.ca/event/friday-drop-in-playtime-pm-3/
LOCATION:Elspeth Reid Family Resource Centre\, 255 – 9th Street\, Brandon\, MB\, R7A 6X1\, Canada
CATEGORIES:Family Activities
END:VEVENT
BEGIN:VEVENT
DTSTART;TZID=America/Los_Angeles:20240923T100000
DTEND;TZID=America/Los_Angeles:20240923T111500
DTSTAMP:20260419T060256
CREATED:20240819T170018Z
LAST-MODIFIED:20240815T190351Z
UID:5488-1727085600-1727090100@cfswestern.mb.ca
SUMMARY:Funday Monday
DESCRIPTION:FUNDAY MONDAY – FUN FOR PARENT & CHILD: \nStart the week off with a fun and relaxed “play date” in our drop-in space. Join other caregivers and kiddos for some fun and connection. All ages welcome! If a ride is required\, call the Centre. \n10:00 – 11:15 a.m. Sept. 9\, 23\, Oct. 7\, 21\, Nov. 4\, 18\, & Dec. 9/24
URL:https://cfswestern.mb.ca/event/funday-monday-8/
LOCATION:Elspeth Reid Family Resource Centre\, 255 – 9th Street\, Brandon\, MB\, R7A 6X1\, Canada
CATEGORIES:Family Activities
END:VEVENT
BEGIN:VEVENT
DTSTART;TZID=America/Los_Angeles:20240923T133000
DTEND;TZID=America/Los_Angeles:20240923T151500
DTSTAMP:20260419T060256
CREATED:20240819T170044Z
LAST-MODIFIED:20240815T142617Z
UID:5360-1727098200-1727104500@cfswestern.mb.ca
SUMMARY:REASONS WHY IT IS IMPORTANT TO SET LIMITS WITH KIDS
DESCRIPTION:REASONS WHY IT IS IMPORTANT TO SET LIMITS WITH KIDS: \nJoin us to learn how limits are good for kids. We will talk about how limits teach self-discipline\, teach your kids how to keep themselves safe\, how limits help your kids cope with uncomfortable feelings and show your kids that YOU care. \nMon. Afternoons: 1:30 – 3:15 p.m. Sept. 16 & 23/24
URL:https://cfswestern.mb.ca/event/reasons-why-it-is-important-to-set-limits-with-kids-2/
LOCATION:Elspeth Reid Family Resource Centre\, 255 – 9th Street\, Brandon\, MB\, R7A 6X1\, Canada
CATEGORIES:Parent Education
END:VEVENT
BEGIN:VEVENT
DTSTART;TZID=America/Los_Angeles:20240924T093000
DTEND;TZID=America/Los_Angeles:20240924T111500
DTSTAMP:20260419T060256
CREATED:20240819T170545Z
LAST-MODIFIED:20240815T164535Z
UID:5368-1727170200-1727176500@cfswestern.mb.ca
SUMMARY:POSITIVE DISCIPLINE IN EVERYDAY PARENTING
DESCRIPTION:POSITIVE DISCIPLINE IN EVERYDAY PARENTING: \nThis revised trauma informed program is for parents and caregivers of children of all ages .It provides interactive activities\, discussions\, self-regulation tools\, and problem-solving practices that strengthen parent child connection. Knowledge and preparation are key to handling challenging situations constructively. \nTues. Mornings: 9:30 – 11:15 a.m. Sept. 24-Nov. 26/24
URL:https://cfswestern.mb.ca/event/positive-discipline-in-everyday-parenting/
LOCATION:Elspeth Reid Family Resource Centre\, 255 – 9th Street\, Brandon\, MB\, R7A 6X1\, Canada
CATEGORIES:Parent Education
END:VEVENT
BEGIN:VEVENT
DTSTART;TZID=America/Los_Angeles:20240924T133000
DTEND;TZID=America/Los_Angeles:20240924T151500
DTSTAMP:20260419T060256
CREATED:20240819T170041Z
LAST-MODIFIED:20240815T141125Z
UID:5334-1727184600-1727190900@cfswestern.mb.ca
SUMMARY:SHARE\, LEARN\, CREATE
DESCRIPTION:SHARE\, LEARN\, CREATE: \nCome together with other care-givers to focus on YOU and your wellness. Let’s get together to connect with each other and to use our creativity and self-expression to explore ideas that contribute to your health\, happiness\, and well-being. \nTues. Afternoons 1:30-3:15 p.m. Sept. 10\, 17\, 24 & Oct. 1/24
URL:https://cfswestern.mb.ca/event/share-learn-create-3/
LOCATION:Elspeth Reid Family Resource Centre\, 255 – 9th Street\, Brandon\, MB\, R7A 6X1\, Canada
CATEGORIES:Parent Education
END:VEVENT
BEGIN:VEVENT
DTSTART;TZID=America/Los_Angeles:20240925T093000
DTEND;TZID=America/Los_Angeles:20240925T101500
DTSTAMP:20260419T060256
CREATED:20240819T170725Z
LAST-MODIFIED:20240815T192830Z
UID:5532-1727256600-1727259300@cfswestern.mb.ca
SUMMARY:FAMILY CIRCLE AM
DESCRIPTION:FAMILY CIRCLE AM: Join our group of parents and babies that promotes early learning and literacy through rhymes\, songs\, stories\, and lullabies. \nWed. Mornings: 9:30–10:15 a.m. Sept. 25 – Oct. 30/24
URL:https://cfswestern.mb.ca/event/family-circle-am/
LOCATION:Elspeth Reid Family Resource Centre\, 255 – 9th Street\, Brandon\, MB\, R7A 6X1\, Canada
CATEGORIES:Family Activities
END:VEVENT
BEGIN:VEVENT
DTSTART;TZID=America/Los_Angeles:20240925T104500
DTEND;TZID=America/Los_Angeles:20240925T113000
DTSTAMP:20260419T060256
CREATED:20240819T170422Z
LAST-MODIFIED:20240815T193433Z
UID:5544-1727261100-1727263800@cfswestern.mb.ca
SUMMARY:Family Circle AM 2
DESCRIPTION:FAMILY CIRCLE AM 2: Join our group of parents and babies that promotes early learning and literacy through rhymes\, songs\, stories\, and lullabies. \nWed. Mornings: 10:45-11:30 a.m. Sept. 25 – Oct. 30/24
URL:https://cfswestern.mb.ca/event/family-circle-am-2-2/
LOCATION:Elspeth Reid Family Resource Centre\, 255 – 9th Street\, Brandon\, MB\, R7A 6X1\, Canada
CATEGORIES:Family Activities
END:VEVENT
BEGIN:VEVENT
DTSTART;TZID=America/Los_Angeles:20240925T133000
DTEND;TZID=America/Los_Angeles:20240925T151500
DTSTAMP:20260419T060256
CREATED:20240819T170007Z
LAST-MODIFIED:20240815T142959Z
UID:5366-1727271000-1727277300@cfswestern.mb.ca
SUMMARY:Tricky People
DESCRIPTION:Instead of “Stranger Danger” you need to teach your child about “Tricky People”: For parents with children one year and over. Come learn how to educate your child to be aware of “Tricky People” not just “Stranger Danger”. \nWed. Afternoons: 1:30 – 3:15 p.m. Sept. 18 & 25/24
URL:https://cfswestern.mb.ca/event/tricky-people-2/
LOCATION:Elspeth Reid Family Resource Centre\, 255 – 9th Street\, Brandon\, MB\, R7A 6X1\, Canada
CATEGORIES:Parent Education
END:VEVENT
BEGIN:VEVENT
DTSTART;TZID=America/Los_Angeles:20240925T160000
DTEND;TZID=America/Los_Angeles:20240925T170000
DTSTAMP:20260419T060256
CREATED:20240819T170003Z
LAST-MODIFIED:20240815T185542Z
UID:5466-1727280000-1727283600@cfswestern.mb.ca
SUMMARY:KIDS CLUB
DESCRIPTION:KIDS CLUB: FUN! FUN! FUN! Join us for an activity\, games and craft-based program for 7 – 12 year-olds. Snack included. \nWed. Afternoons 4:00 – 5:00 p.m. Sept. 11 & 25\, Oct. 9 & 23\, Nov. 6\, Dec. 4 & 18/24
URL:https://cfswestern.mb.ca/event/kids-club-14/
LOCATION:Elspeth Reid Family Resource Centre\, 255 – 9th Street\, Brandon\, MB\, R7A 6X1\, Canada
CATEGORIES:Family Activities
END:VEVENT
BEGIN:VEVENT
DTSTART;TZID=America/Los_Angeles:20240926T093000
DTEND;TZID=America/Los_Angeles:20240926T111500
DTSTAMP:20260419T060256
CREATED:20240819T170004Z
LAST-MODIFIED:20240815T141839Z
UID:5348-1727343000-1727349300@cfswestern.mb.ca
SUMMARY:TRADITIONAL INDIGENOUS PARENTING
DESCRIPTION:TRADITIONAL INDIGENOUS PARENTING: \nPlease join us for 3 weeks of sharing with Deborah Tacan as we learn about our past\, present\, and future as Indigenous peoples. Together\, we will share about the Traditions and learn how these Teachings apply to our family life. Sessions will include hands on activities\, healing\, and a sharing time. \nThurs. Mornings: 9:30 – 11:15 a.m. Sept. 12\, 19\, and 26/24
URL:https://cfswestern.mb.ca/event/traditional-indigenous-parenting-6/
LOCATION:Elspeth Reid Family Resource Centre\, 255 – 9th Street\, Brandon\, MB\, R7A 6X1\, Canada
CATEGORIES:Parent Education
END:VEVENT
BEGIN:VEVENT
DTSTART;TZID=America/Los_Angeles:20240926T133000
DTEND;TZID=America/Los_Angeles:20240926T151500
DTSTAMP:20260419T060256
CREATED:20240819T170503Z
LAST-MODIFIED:20240815T165643Z
UID:5390-1727357400-1727363700@cfswestern.mb.ca
SUMMARY:BECAUSE I LOVE YOU
DESCRIPTION:BECAUSE I LOVE YOU: \nFor parents with young children who want to get to know other parents\, relax\, and have fun. Topics include: strengthening the bond with your young child\, childproofing and safety\, mealtimes\, routines\, brain building\, learning through play\, stress\, quality child care\, etc. \nThurs. Afternoons: 1:30 – 3:15 p.m. Sept. 19-Nov. 7/24
URL:https://cfswestern.mb.ca/event/because-i-love-you-27/
LOCATION:Elspeth Reid Family Resource Centre\, 255 – 9th Street\, Brandon\, MB\, R7A 6X1\, Canada
CATEGORIES:Parent Education
END:VEVENT
BEGIN:VEVENT
DTSTART;TZID=America/Los_Angeles:20240927T093000
DTEND;TZID=America/Los_Angeles:20240927T111500
DTSTAMP:20260419T060256
CREATED:20240819T171100Z
LAST-MODIFIED:20240815T194342Z
UID:5562-1727429400-1727435700@cfswestern.mb.ca
SUMMARY:Friday Drop-in Playtime AM
DESCRIPTION:FRIDAY DROP-IN PLAYTIME AM: An opportunity for parents and children to play together in our childcare space. Snack\, crafts\, and story time provided. \nFrid. Mornings 9:30 – 11:15 a.m. Sept. 6-Dec. 20/24 (not Oct. 25)
URL:https://cfswestern.mb.ca/event/friday-drop-in-playtime-am-4/
LOCATION:Elspeth Reid Family Resource Centre\, 255 – 9th Street\, Brandon\, MB\, R7A 6X1\, Canada
CATEGORIES:Family Activities
END:VEVENT
BEGIN:VEVENT
DTSTART;TZID=America/Los_Angeles:20240927T133000
DTEND;TZID=America/Los_Angeles:20240927T151500
DTSTAMP:20260419T060256
CREATED:20240819T170758Z
LAST-MODIFIED:20240815T195640Z
UID:5592-1727443800-1727450100@cfswestern.mb.ca
SUMMARY:Friday Drop-in Playtime PM
DESCRIPTION:FRIDAY DROP-IN PLAYTIME PM: An opportunity for parents and children to play together in our childcare space. Snack\, crafts\, and story time provided. \nFri. Afternoons 1:30 – 3:15 p.m. Sept. 6-Dec. 20/24 (not Oct. 25)
URL:https://cfswestern.mb.ca/event/friday-drop-in-playtime-pm-4/
LOCATION:Elspeth Reid Family Resource Centre\, 255 – 9th Street\, Brandon\, MB\, R7A 6X1\, Canada
CATEGORIES:Family Activities
END:VEVENT
BEGIN:VEVENT
DTSTART;TZID=America/Los_Angeles:20241001T093000
DTEND;TZID=America/Los_Angeles:20241001T111500
DTSTAMP:20260419T060256
CREATED:20240819T170533Z
LAST-MODIFIED:20240815T164711Z
UID:5370-1727775000-1727781300@cfswestern.mb.ca
SUMMARY:POSITIVE DISCIPLINE IN EVERYDAY PARENTING
DESCRIPTION:POSITIVE DISCIPLINE IN EVERYDAY PARENTING: \nThis revised trauma informed program is for parents and caregivers of children of all ages .It provides interactive activities\, discussions\, self-regulation tools\, and problem-solving practices that strengthen parent child connection. Knowledge and preparation are key to handling challenging situations constructively. \nTues. Mornings: 9:30 – 11:15 a.m. Sept. 24-Nov. 26/24
URL:https://cfswestern.mb.ca/event/positive-discipline-in-everyday-parenting-2/
LOCATION:Elspeth Reid Family Resource Centre\, 255 – 9th Street\, Brandon\, MB\, R7A 6X1\, Canada
CATEGORIES:Parent Education
END:VEVENT
BEGIN:VEVENT
DTSTART;TZID=America/Los_Angeles:20241001T133000
DTEND;TZID=America/Los_Angeles:20241001T151500
DTSTAMP:20260419T060256
CREATED:20240819T170033Z
LAST-MODIFIED:20240815T141217Z
UID:5336-1727789400-1727795700@cfswestern.mb.ca
SUMMARY:SHARE\, LEARN\, CREATE
DESCRIPTION:SHARE\, LEARN\, CREATE: \nCome together with other care-givers to focus on YOU and your wellness. Let’s get together to connect with each other and to use our creativity and self-expression to explore ideas that contribute to your health\, happiness\, and well-being. \nTues. Afternoons 1:30-3:15 p.m. Sept. 10\, 17\, 24 & Oct. 1/24
URL:https://cfswestern.mb.ca/event/share-learn-create-4/
LOCATION:Elspeth Reid Family Resource Centre\, 255 – 9th Street\, Brandon\, MB\, R7A 6X1\, Canada
CATEGORIES:Parent Education
END:VEVENT
BEGIN:VEVENT
DTSTART;TZID=America/Los_Angeles:20241002T093000
DTEND;TZID=America/Los_Angeles:20241002T101500
DTSTAMP:20260419T060256
CREATED:20240819T170740Z
LAST-MODIFIED:20240815T192943Z
UID:5534-1727861400-1727864100@cfswestern.mb.ca
SUMMARY:Family Circle AM
DESCRIPTION:FAMILY CIRCLE AM: Join our group of parents and babies that promotes early learning and literacy through rhymes\, songs\, stories\, and lullabies. \nWed. Mornings: 9:30–10:15 a.m. Sept. 25 – Oct. 30/24
URL:https://cfswestern.mb.ca/event/family-circle-am-2/
LOCATION:Elspeth Reid Family Resource Centre\, 255 – 9th Street\, Brandon\, MB\, R7A 6X1\, Canada
CATEGORIES:Family Activities
END:VEVENT
BEGIN:VEVENT
DTSTART;TZID=America/Los_Angeles:20241002T104500
DTEND;TZID=America/Los_Angeles:20241002T113000
DTSTAMP:20260419T060256
CREATED:20240819T170457Z
LAST-MODIFIED:20240815T193541Z
UID:5546-1727865900-1727868600@cfswestern.mb.ca
SUMMARY:Family Circle AM 2
DESCRIPTION:FAMILY CIRCLE AM 2: Join our group of parents and babies that promotes early learning and literacy through rhymes\, songs\, stories\, and lullabies. \nWed. Mornings: 10:45-11:30 a.m. Sept. 25 – Oct. 30/24
URL:https://cfswestern.mb.ca/event/family-circle-am-2-3/
LOCATION:Elspeth Reid Family Resource Centre\, 255 – 9th Street\, Brandon\, MB\, R7A 6X1\, Canada
CATEGORIES:Family Activities
END:VEVENT
BEGIN:VEVENT
DTSTART;TZID=America/Los_Angeles:20241003T093000
DTEND;TZID=America/Los_Angeles:20241003T111500
DTSTAMP:20260419T060256
CREATED:20240819T170537Z
LAST-MODIFIED:20240815T170627Z
UID:5404-1727947800-1727954100@cfswestern.mb.ca
SUMMARY:PARENT CAFE
DESCRIPTION:PARENT CAFE: \nCafes are about having a safe space where parents can talk and listen to each other on topics that matter to you. We look at the challenges and victories of raising a family\, learn about wrapping our family in the protective factors\, and create strategies from your own wisdom and experiences to strengthen your family. \nThurs. Mornings 9:30 – 11:15 a.m. Oct. 3\, 10\, 17\, 24\, & Nov. 7/24
URL:https://cfswestern.mb.ca/event/parent-cafe/
LOCATION:Elspeth Reid Family Resource Centre\, 255 – 9th Street\, Brandon\, MB\, R7A 6X1\, Canada
CATEGORIES:Parent Education
END:VEVENT
BEGIN:VEVENT
DTSTART;TZID=America/Los_Angeles:20241003T133000
DTEND;TZID=America/Los_Angeles:20241003T151500
DTSTAMP:20260419T060256
CREATED:20240819T170501Z
LAST-MODIFIED:20240815T171043Z
UID:5414-1727962200-1727968500@cfswestern.mb.ca
SUMMARY:SELF CARE: (for parents and caregivers)
DESCRIPTION:SELF CARE: (for parents and caregivers) \nLet’s focus on the importance of self-care. Learn how taking simple steps to take care of ourselves can help us to take better care of our families. Each session will include a self-care activity\, and tips for getting the self-care you need\, as well as self-care items to take home. \nThurs. Afternoons: 1:30 – 3:15 p.m. Oct. 3\,10\, 17\, 24\, & 31/24
URL:https://cfswestern.mb.ca/event/self-care-for-parents-and-caregivers-8/
LOCATION:Elspeth Reid Family Resource Centre\, 255 – 9th Street\, Brandon\, MB\, R7A 6X1\, Canada
CATEGORIES:Parent Education
END:VEVENT
BEGIN:VEVENT
DTSTART;TZID=America/Los_Angeles:20241003T133000
DTEND;TZID=America/Los_Angeles:20241003T151500
DTSTAMP:20260419T060256
CREATED:20240819T170555Z
LAST-MODIFIED:20240815T165740Z
UID:5392-1727962200-1727968500@cfswestern.mb.ca
SUMMARY:BECAUSE I LOVE YOU
DESCRIPTION:BECAUSE I LOVE YOU: \nFor parents with young children who want to get to know other parents\, relax\, and have fun. Topics include: strengthening the bond with your young child\, childproofing and safety\, mealtimes\, routines\, brain building\, learning through play\, stress\, quality child care\, etc. \nThurs. Afternoons: 1:30 – 3:15 p.m. Sept. 19-Nov. 7/24
URL:https://cfswestern.mb.ca/event/because-i-love-you-28/
LOCATION:Elspeth Reid Family Resource Centre\, 255 – 9th Street\, Brandon\, MB\, R7A 6X1\, Canada
CATEGORIES:Parent Education
END:VEVENT
END:VCALENDAR