BEGIN:VCALENDAR
VERSION:2.0
PRODID:-//CFS Western - ECPv6.15.18//NONSGML v1.0//EN
CALSCALE:GREGORIAN
METHOD:PUBLISH
X-WR-CALNAME:CFS Western
X-ORIGINAL-URL:https://cfswestern.mb.ca
X-WR-CALDESC:Events for CFS Western
REFRESH-INTERVAL;VALUE=DURATION:PT1H
X-Robots-Tag:noindex
X-PUBLISHED-TTL:PT1H
BEGIN:VTIMEZONE
TZID:America/Los_Angeles
BEGIN:DAYLIGHT
TZOFFSETFROM:-0800
TZOFFSETTO:-0700
TZNAME:PDT
DTSTART:20220313T100000
END:DAYLIGHT
BEGIN:STANDARD
TZOFFSETFROM:-0700
TZOFFSETTO:-0800
TZNAME:PST
DTSTART:20221106T090000
END:STANDARD
BEGIN:DAYLIGHT
TZOFFSETFROM:-0800
TZOFFSETTO:-0700
TZNAME:PDT
DTSTART:20230312T100000
END:DAYLIGHT
BEGIN:STANDARD
TZOFFSETFROM:-0700
TZOFFSETTO:-0800
TZNAME:PST
DTSTART:20231105T090000
END:STANDARD
BEGIN:DAYLIGHT
TZOFFSETFROM:-0800
TZOFFSETTO:-0700
TZNAME:PDT
DTSTART:20240310T100000
END:DAYLIGHT
BEGIN:STANDARD
TZOFFSETFROM:-0700
TZOFFSETTO:-0800
TZNAME:PST
DTSTART:20241103T090000
END:STANDARD
END:VTIMEZONE
BEGIN:VEVENT
DTSTART;TZID=America/Los_Angeles:20231108T093000
DTEND;TZID=America/Los_Angeles:20231108T111500
DTSTAMP:20260419T071007
CREATED:20230828T230355Z
LAST-MODIFIED:20230828T230355Z
UID:4086-1699435800-1699442100@cfswestern.mb.ca
SUMMARY:STEPS TO IMPROVE YOUR CHILDS SPEECH
DESCRIPTION:Simple Steps to Improve Your Child’s Speech Skills”. In this session a Speech-Language Pathologist will provide information about speech sound development and discuss/demonstrate strategies you can use to help your child if they have difficulty making certain sounds. If you or others find your child’s speech difficult to understand\, come and discover some fun games and activities you can do at home\, in the car or outside playing! \nWednesday Morning: 9:30 – 11:15 a.m. November 8\, 2023
URL:https://cfswestern.mb.ca/event/steps-to-improve-your-childs-speech/
LOCATION:Elspeth Reid Family Resource Centre\, 255 – 9th Street\, Brandon\, MB\, R7A 6X1\, Canada
CATEGORIES:Parent Education
END:VEVENT
BEGIN:VEVENT
DTSTART;TZID=America/Los_Angeles:20231108T100000
DTEND;TZID=America/Los_Angeles:20231108T113000
DTSTAMP:20260419T071007
CREATED:20230831T200051Z
LAST-MODIFIED:20230831T200051Z
UID:4258-1699437600-1699443000@cfswestern.mb.ca
SUMMARY:VIRTUAL – GROWING HEALTHY MINDS
DESCRIPTION:Parents have a unique opportunity to role model for their children the importance of taking care of your mental health and building resilience. Join us virtually for a 2-session workshop about supporting your children in learning coping and flexible thinking skills that promote resilience and healthy mental health. We will focus on 5 qualities of character that help support and nurture our children as they build a strong foundation of courage\, responsibility\, cooperation\, respect\, and self-esteem. \nWednesday Mornings: 10:00 – 11:30 a.m. November 1 and November 8/2023
URL:https://cfswestern.mb.ca/event/virtual-growing-healthy-minds-2/
LOCATION:Elspeth Reid Family Resource Centre\, 255 – 9th Street\, Brandon\, MB\, R7A 6X1\, Canada
CATEGORIES:Parent Education
END:VEVENT
BEGIN:VEVENT
DTSTART;TZID=America/Los_Angeles:20231109T093000
DTEND;TZID=America/Los_Angeles:20231109T111500
DTSTAMP:20260419T071007
CREATED:20230828T225836Z
LAST-MODIFIED:20230828T225836Z
UID:4074-1699522200-1699528500@cfswestern.mb.ca
SUMMARY:BEFORE YOU DISCIPLINE YOUR CHILD\, ASK YOURSELF THESE 3 QUESTIONS (1-12 YEARS)
DESCRIPTION:Come join us for four sessions to learn how to PAUSE before you jump to discipline or punishment\, always chase the Why to figure out the child’s behavior\, and once we understand our child\, we can then teach them to engage in the world in healthier ways! (4-week course) \nThursday Mornings: 9:30-11:15 a.m. Nov. 9 – Nov. 30/2023
URL:https://cfswestern.mb.ca/event/before-you-discipline-your-child-ask-yourself-these-3-questions-1-12-years/
LOCATION:Elspeth Reid Family Resource Centre\, 255 – 9th Street\, Brandon\, MB\, R7A 6X1\, Canada
CATEGORIES:Parent Education
END:VEVENT
BEGIN:VEVENT
DTSTART;TZID=America/Los_Angeles:20231109T133000
DTEND;TZID=America/Los_Angeles:20231109T151500
DTSTAMP:20260419T071007
CREATED:20230828T230608Z
LAST-MODIFIED:20230828T230608Z
UID:4093-1699536600-1699542900@cfswestern.mb.ca
SUMMARY:HANDLE WITH CARE
DESCRIPTION:Parents of children ages 0-6 years are welcome to join us for a program about promoting the mental health of children. This program celebrates parents\, teaches problem solving\, promotes and enhances self-esteem and focuses on building trusting relationships. \nThursday Afternoons: 1:30 – 3:15 p.m. Nov. 9 – December 14/2023
URL:https://cfswestern.mb.ca/event/handle-with-care/
LOCATION:Elspeth Reid Family Resource Centre\, 255 – 9th Street\, Brandon\, MB\, R7A 6X1\, Canada
CATEGORIES:Parent Education
END:VEVENT
BEGIN:VEVENT
DTSTART;TZID=America/Los_Angeles:20231110T093000
DTEND;TZID=America/Los_Angeles:20231110T111500
DTSTAMP:20260419T071007
CREATED:20230831T210847Z
LAST-MODIFIED:20230831T210847Z
UID:4332-1699608600-1699614900@cfswestern.mb.ca
SUMMARY:FRIDAY DROP-IN PLAYTIME: MORNING
DESCRIPTION:An opportunity for parents and children to play together in our childcare space. Snack\, crafts\, and story time provided. \n  \nFriday Mornings 9:30 – 11:15 a.m. Sept. 8 – December 15/2023
URL:https://cfswestern.mb.ca/event/friday-drop-in-playtime-morning-9/
LOCATION:Elspeth Reid Family Resource Centre\, 255 – 9th Street\, Brandon\, MB\, R7A 6X1\, Canada
CATEGORIES:Family Activities
END:VEVENT
BEGIN:VEVENT
DTSTART;TZID=America/Los_Angeles:20231110T133000
DTEND;TZID=America/Los_Angeles:20231110T151500
DTSTAMP:20260419T071007
CREATED:20230831T212059Z
LAST-MODIFIED:20230831T212059Z
UID:4360-1699623000-1699629300@cfswestern.mb.ca
SUMMARY:FRIDAY DROP-IN PLAYTIME: AFTERNOON
DESCRIPTION:An opportunity for parents and children to play together in our childcare space. Snack\, crafts\, and story time provided. \nFriday Mornings 9:30 – 11:15 a.m. Sept. 8 – December 15/2023\nFriday Afternoons 1:30 – 3:15 p.m. Sept. 8 – December 15/2023
URL:https://cfswestern.mb.ca/event/friday-drop-in-playtime-afternoon-10/
LOCATION:Elspeth Reid Family Resource Centre\, 255 – 9th Street\, Brandon\, MB\, R7A 6X1\, Canada
CATEGORIES:Family Activities
END:VEVENT
BEGIN:VEVENT
DTSTART;TZID=America/Los_Angeles:20231113T180000
DTEND;TZID=America/Los_Angeles:20231113T200000
DTSTAMP:20260419T071007
CREATED:20230914T193135Z
LAST-MODIFIED:20230914T193135Z
UID:4452-1699898400-1699905600@cfswestern.mb.ca
SUMMARY:POSITIVE DISCIPLINE EVENING
DESCRIPTION:This program is helpful with strengthening parent-child relationships from ages 0-17 years. It enhances parent/child problem-solving skills and promotes emotional self-regulation of both parents and children. \nMonday Evenings: 6:00 – 8:00 p.m. September 25 – November 27/2023
URL:https://cfswestern.mb.ca/event/positive-discipline-evening-6/
LOCATION:Elspeth Reid Family Resource Centre\, 255 – 9th Street\, Brandon\, MB\, R7A 6X1\, Canada
CATEGORIES:Parent Education
END:VEVENT
BEGIN:VEVENT
DTSTART;TZID=America/Los_Angeles:20231114T093000
DTEND;TZID=America/Los_Angeles:20231114T111500
DTSTAMP:20260419T071007
CREATED:20230828T224850Z
LAST-MODIFIED:20230831T194220Z
UID:4056-1699954200-1699960500@cfswestern.mb.ca
SUMMARY:CIRCLE OF SECURITY
DESCRIPTION:Imagine what it might feel like if you were able to make sense of what your child was really asking from you. This program is based on decades of research about how secure parent-child relationships can be supported and strengthened. Parents learn to understand their child’s emotional world by learning to read emotional needs\, support their child’s ability to manage emotions\, enhance their child’s self-esteem and honor their child to be secure.
URL:https://cfswestern.mb.ca/event/circle-of-security-parents-with-children-4-months-till-6-years-10/
LOCATION:Elspeth Reid Family Resource Centre\, 255 – 9th Street\, Brandon\, MB\, R7A 6X1\, Canada
CATEGORIES:Parent Education
END:VEVENT
BEGIN:VEVENT
DTSTART;TZID=America/Los_Angeles:20231114T133000
DTEND;TZID=America/Los_Angeles:20231114T151500
DTSTAMP:20260419T071007
CREATED:20230831T192753Z
LAST-MODIFIED:20230831T192753Z
UID:4208-1699968600-1699974900@cfswestern.mb.ca
SUMMARY:POSITIVE DISCIPLINE
DESCRIPTION:This program is helpful with strengthening parent-child relationships from ages 0-17 years. It enhances parent/child problem-solving skills and promotes emotional self-regulation of both parents and children. \n  \nTuesday Afternoons: 1:30 – 3:15 p.m. Sept. 12 – Nov. 14/2023
URL:https://cfswestern.mb.ca/event/positive-discipline-11/
LOCATION:Elspeth Reid Family Resource Centre\, 255 – 9th Street\, Brandon\, MB\, R7A 6X1\, Canada
CATEGORIES:Parent Education
END:VEVENT
BEGIN:VEVENT
DTSTART;TZID=America/Los_Angeles:20231115T093000
DTEND;TZID=America/Los_Angeles:20231115T111500
DTSTAMP:20260419T071007
CREATED:20230828T230517Z
LAST-MODIFIED:20230828T230517Z
UID:4090-1700040600-1700046900@cfswestern.mb.ca
SUMMARY:COMMUNICATION AND LANGUAGE IN YOUNG CHILDREN
DESCRIPTION:Parents of children who are 18 months – 5 years: You are invited to join us for a workshop all about children and their language development. Do you have worries about how your young child’s language and communication skills are developing? Join us and learn about fun and easy\, everyday strategies and activities to encourage your child to communicate. \nWednesday Morning: 9:30 – 11:15 a.m. November 15\, 2023
URL:https://cfswestern.mb.ca/event/communication-and-language-in-young-children/
LOCATION:Elspeth Reid Family Resource Centre\, 255 – 9th Street\, Brandon\, MB\, R7A 6X1\, Canada
CATEGORIES:Parent Education
END:VEVENT
BEGIN:VEVENT
DTSTART;TZID=America/Los_Angeles:20231115T183000
DTEND;TZID=America/Los_Angeles:20231115T203000
DTSTAMP:20260419T071007
CREATED:20230831T201336Z
LAST-MODIFIED:20230831T201336Z
UID:4279-1700073000-1700080200@cfswestern.mb.ca
SUMMARY:Parent Talk
DESCRIPTION:A time of peer support for parents with children who have learning difficulties or extra challenges. Meetings are once a month in the evenings from 6:30-8:30pm. This session is in partnership with the Learning Disabilities Association of Manitoba.
URL:https://cfswestern.mb.ca/event/parent-talk-3/
LOCATION:Elspeth Reid Family Resource Centre\, 255 – 9th Street\, Brandon\, MB\, R7A 6X1\, Canada
CATEGORIES:Support Groups
END:VEVENT
BEGIN:VEVENT
DTSTART;TZID=America/Los_Angeles:20231116T093000
DTEND;TZID=America/Los_Angeles:20231116T111500
DTSTAMP:20260419T071007
CREATED:20230831T195127Z
LAST-MODIFIED:20230831T195127Z
UID:4250-1700127000-1700133300@cfswestern.mb.ca
SUMMARY:BEFORE YOU DISCIPLINE YOUR CHILD\, ASK YOURSELF THESE 3 QUESTIONS
DESCRIPTION:Come join us for four sessions to learn how to PAUSE before you jump to discipline or punishment\, always chase the Why to figure out the child’s behavior\, and once we understand our child\, we can then teach them to engage in the world in healthier ways! (4-week course) \nThursday Mornings: 9:30-11:15 a.m. Nov. 9 – Nov. 30/2023
URL:https://cfswestern.mb.ca/event/before-you-discipline-your-child-ask-yourself-these-3-questions/
LOCATION:Elspeth Reid Family Resource Centre\, 255 – 9th Street\, Brandon\, MB\, R7A 6X1\, Canada
CATEGORIES:Parent Education
END:VEVENT
BEGIN:VEVENT
DTSTART;TZID=America/Los_Angeles:20231116T133000
DTEND;TZID=America/Los_Angeles:20231116T151500
DTSTAMP:20260419T071007
CREATED:20230831T200239Z
LAST-MODIFIED:20230831T200239Z
UID:4260-1700141400-1700147700@cfswestern.mb.ca
SUMMARY:HANDLE WITH CARE
DESCRIPTION:Parents of children ages 0-6 years are welcome to join us for a program about promoting the mental health of children. This program celebrates parents\, teaches problem solving\, promotes and enhances self-esteem and focuses on building trusting relationships. \nThursday Afternoons: 1:30 – 3:15 p.m. Nov. 9 – December 14/2023
URL:https://cfswestern.mb.ca/event/handle-with-care-2/
LOCATION:Elspeth Reid Family Resource Centre\, 255 – 9th Street\, Brandon\, MB\, R7A 6X1\, Canada
CATEGORIES:Parent Education
END:VEVENT
BEGIN:VEVENT
DTSTART;TZID=America/Los_Angeles:20231117T093000
DTEND;TZID=America/Los_Angeles:20231117T111500
DTSTAMP:20260419T071007
CREATED:20230831T210933Z
LAST-MODIFIED:20230831T210933Z
UID:4334-1700213400-1700219700@cfswestern.mb.ca
SUMMARY:FRIDAY DROP-IN PLAYTIME: MORNING
DESCRIPTION:An opportunity for parents and children to play together in our childcare space. Snack\, crafts\, and story time provided. \n  \nFriday Mornings 9:30 – 11:15 a.m. Sept. 8 – December 15/2023
URL:https://cfswestern.mb.ca/event/friday-drop-in-playtime-morning-10/
LOCATION:Elspeth Reid Family Resource Centre\, 255 – 9th Street\, Brandon\, MB\, R7A 6X1\, Canada
CATEGORIES:Family Activities
END:VEVENT
BEGIN:VEVENT
DTSTART;TZID=America/Los_Angeles:20231117T133000
DTEND;TZID=America/Los_Angeles:20231117T151500
DTSTAMP:20260419T071007
CREATED:20230831T212139Z
LAST-MODIFIED:20230831T212139Z
UID:4362-1700227800-1700234100@cfswestern.mb.ca
SUMMARY:FRIDAY DROP-IN PLAYTIME: AFTERNOON
DESCRIPTION:An opportunity for parents and children to play together in our childcare space. Snack\, crafts\, and story time provided. \nFriday Mornings 9:30 – 11:15 a.m. Sept. 8 – December 15/2023\nFriday Afternoons 1:30 – 3:15 p.m. Sept. 8 – December 15/2023
URL:https://cfswestern.mb.ca/event/friday-drop-in-playtime-afternoon-11/
LOCATION:Elspeth Reid Family Resource Centre\, 255 – 9th Street\, Brandon\, MB\, R7A 6X1\, Canada
CATEGORIES:Family Activities
END:VEVENT
BEGIN:VEVENT
DTSTART;TZID=America/Los_Angeles:20231120T180000
DTEND;TZID=America/Los_Angeles:20231120T200000
DTSTAMP:20260419T071007
CREATED:20230831T202222Z
LAST-MODIFIED:20230831T202222Z
UID:4285-1700503200-1700510400@cfswestern.mb.ca
SUMMARY:MEET UP MONDAYS (PARENTS WITH TEENS)
DESCRIPTION:Are you a parent of a teenager who would like to share and connect with other parents of teens? Join us monthly in a safe and supportive space to share strategies that help strengthen the parent-teen relationship. \nMonday Evenings\, 6:00 – 8:00pm – Oct. 16\, Nov. 20 and Dec. 11/23
URL:https://cfswestern.mb.ca/event/meet-up-mondays-parents-with-teens/
LOCATION:Elspeth Reid Family Resource Centre\, 255 – 9th Street\, Brandon\, MB\, R7A 6X1\, Canada
CATEGORIES:Support Groups
END:VEVENT
BEGIN:VEVENT
DTSTART;TZID=America/Los_Angeles:20231120T180000
DTEND;TZID=America/Los_Angeles:20231120T200000
DTSTAMP:20260419T071007
CREATED:20230914T193213Z
LAST-MODIFIED:20230914T193213Z
UID:4454-1700503200-1700510400@cfswestern.mb.ca
SUMMARY:POSITIVE DISCIPLINE EVENING
DESCRIPTION:This program is helpful with strengthening parent-child relationships from ages 0-17 years. It enhances parent/child problem-solving skills and promotes emotional self-regulation of both parents and children. \nMonday Evenings: 6:00 – 8:00 p.m. September 25 – November 27/2023
URL:https://cfswestern.mb.ca/event/positive-discipline-evening-7/
LOCATION:Elspeth Reid Family Resource Centre\, 255 – 9th Street\, Brandon\, MB\, R7A 6X1\, Canada
CATEGORIES:Parent Education
END:VEVENT
BEGIN:VEVENT
DTSTART;TZID=America/Los_Angeles:20231121T093000
DTEND;TZID=America/Los_Angeles:20231121T111500
DTSTAMP:20260419T071007
CREATED:20230828T224921Z
LAST-MODIFIED:20230831T194147Z
UID:4058-1700559000-1700565300@cfswestern.mb.ca
SUMMARY:CIRCLE OF SECURITY
DESCRIPTION:Imagine what it might feel like if you were able to make sense of what your child was really asking from you. This program is based on decades of research about how secure parent-child relationships can be supported and strengthened. Parents learn to understand their child’s emotional world by learning to read emotional needs\, support their child’s ability to manage emotions\, enhance their child’s self-esteem and honor their child to be secure.
URL:https://cfswestern.mb.ca/event/circle-of-security-parents-with-children-4-months-till-6-years-11/
LOCATION:Elspeth Reid Family Resource Centre\, 255 – 9th Street\, Brandon\, MB\, R7A 6X1\, Canada
CATEGORIES:Parent Education
END:VEVENT
BEGIN:VEVENT
DTSTART;TZID=America/Los_Angeles:20231121T133000
DTEND;TZID=America/Los_Angeles:20231121T151500
DTSTAMP:20260419T071007
CREATED:20230828T230707Z
LAST-MODIFIED:20230828T230707Z
UID:4095-1700573400-1700579700@cfswestern.mb.ca
SUMMARY:KEYS TO ATTACHMENT
DESCRIPTION:Parents\, come join us for 4 weeks to discuss keys to building a healthy and secure attachment. We will focus on the importance of providing comfort\, consistency\, attunement\, and self-care\, and discuss why these keys are essential for a trusting\, healthy\, relationship with your child. \nTuesday Afternoons: 1:30 – 3:15 p.m. Nov. 21 – December 12/2023
URL:https://cfswestern.mb.ca/event/keys-to-attachment/
LOCATION:Elspeth Reid Family Resource Centre\, 255 – 9th Street\, Brandon\, MB\, R7A 6X1\, Canada
CATEGORIES:Parent Education
END:VEVENT
BEGIN:VEVENT
DTSTART;TZID=America/Los_Angeles:20231122T100000
DTEND;TZID=America/Los_Angeles:20231122T111500
DTSTAMP:20260419T071007
CREATED:20230828T231437Z
LAST-MODIFIED:20230828T231437Z
UID:4109-1700647200-1700651700@cfswestern.mb.ca
SUMMARY:TODDLER TIME
DESCRIPTION:Ages 2-3 years) Let’s learn through play! Creative crafts and activities to keep your busy toddler learning while having fun. Limited child care and transportation provided. \nWednesday Morning: 10:00 – 11:15 a.m. November 22/2023
URL:https://cfswestern.mb.ca/event/toddler-time/
LOCATION:Elspeth Reid Family Resource Centre\, 255 – 9th Street\, Brandon\, MB\, R7A 6X1\, Canada
CATEGORIES:Family Activities
END:VEVENT
BEGIN:VEVENT
DTSTART;TZID=America/Los_Angeles:20231122T180000
DTEND;TZID=America/Los_Angeles:20231122T190000
DTSTAMP:20260419T071007
CREATED:20231030T191537Z
LAST-MODIFIED:20231030T211653Z
UID:4559-1700676000-1700679600@cfswestern.mb.ca
SUMMARY:Foster Parent Recruitment Information Session
DESCRIPTION:You are invited to Child & Family Services of Western Manitoba’s Foster Parent Recruitment Information Session: \n\nDate: Wednesday\, Nov. 22\, 2023\nTime: 6-7pm\nLocation: Family & Community Development Centre (Unit 4 – 613 10th St. Brandon)\n\nNo registration required. Drop ins welcome. Learn about becoming a foster parent in your community. \nHOSTED BY THE AGENCY’S RESOURCE DEVELOPMENT TEAM.\nFor more information\, call 204-726-6103 \n \n 
URL:https://cfswestern.mb.ca/event/foster-parent-info-session/
LOCATION:MB
CATEGORIES:General Events
ATTACH;FMTTYPE=image/png:https://cfswestern.mb.ca/wp-content/uploads/2023/10/EventBlog-Template-3.png
END:VEVENT
BEGIN:VEVENT
DTSTART;TZID=America/Los_Angeles:20231123T093000
DTEND;TZID=America/Los_Angeles:20231123T111500
DTSTAMP:20260419T071007
CREATED:20230831T195744Z
LAST-MODIFIED:20230831T195744Z
UID:4252-1700731800-1700738100@cfswestern.mb.ca
SUMMARY:BEFORE YOU DISCIPLINE YOUR CHILD\, ASK YOURSELF THESE 3 QUESTIONS
DESCRIPTION:Come join us for four sessions to learn how to PAUSE before you jump to discipline or punishment\, always chase the Why to figure out the child’s behavior\, and once we understand our child\, we can then teach them to engage in the world in healthier ways! (4-week course) \nThursday Mornings: 9:30-11:15 a.m. Nov. 9 – Nov. 30/2023
URL:https://cfswestern.mb.ca/event/before-you-discipline-your-child-ask-yourself-these-3-questions-2/
LOCATION:Elspeth Reid Family Resource Centre\, 255 – 9th Street\, Brandon\, MB\, R7A 6X1\, Canada
CATEGORIES:Parent Education
END:VEVENT
BEGIN:VEVENT
DTSTART;TZID=America/Los_Angeles:20231123T133000
DTEND;TZID=America/Los_Angeles:20231123T151500
DTSTAMP:20260419T071007
CREATED:20230831T200333Z
LAST-MODIFIED:20230831T200333Z
UID:4262-1700746200-1700752500@cfswestern.mb.ca
SUMMARY:HANDLE WITH CARE
DESCRIPTION:Parents of children ages 0-6 years are welcome to join us for a program about promoting the mental health of children. This program celebrates parents\, teaches problem solving\, promotes and enhances self-esteem and focuses on building trusting relationships. \nThursday Afternoons: 1:30 – 3:15 p.m. Nov. 9 – December 14/2023
URL:https://cfswestern.mb.ca/event/handle-with-care-3/
LOCATION:Elspeth Reid Family Resource Centre\, 255 – 9th Street\, Brandon\, MB\, R7A 6X1\, Canada
CATEGORIES:Parent Education
END:VEVENT
BEGIN:VEVENT
DTSTART;TZID=America/Los_Angeles:20231124T093000
DTEND;TZID=America/Los_Angeles:20231124T111500
DTSTAMP:20260419T071007
CREATED:20230831T211030Z
LAST-MODIFIED:20230831T211030Z
UID:4336-1700818200-1700824500@cfswestern.mb.ca
SUMMARY:FRIDAY DROP-IN PLAYTIME: MORNING
DESCRIPTION:An opportunity for parents and children to play together in our childcare space. Snack\, crafts\, and story time provided. \n  \nFriday Mornings 9:30 – 11:15 a.m. Sept. 8 – December 15/2023
URL:https://cfswestern.mb.ca/event/friday-drop-in-playtime-morning-11/
LOCATION:Elspeth Reid Family Resource Centre\, 255 – 9th Street\, Brandon\, MB\, R7A 6X1\, Canada
CATEGORIES:Family Activities
END:VEVENT
BEGIN:VEVENT
DTSTART;TZID=America/Los_Angeles:20231124T133000
DTEND;TZID=America/Los_Angeles:20231124T151500
DTSTAMP:20260419T071007
CREATED:20230831T212222Z
LAST-MODIFIED:20230831T212222Z
UID:4364-1700832600-1700838900@cfswestern.mb.ca
SUMMARY:FRIDAY DROP-IN PLAYTIME: AFTERNOON
DESCRIPTION:An opportunity for parents and children to play together in our childcare space. Snack\, crafts\, and story time provided. \nFriday Mornings 9:30 – 11:15 a.m. Sept. 8 – December 15/2023\nFriday Afternoons 1:30 – 3:15 p.m. Sept. 8 – December 15/2023
URL:https://cfswestern.mb.ca/event/friday-drop-in-playtime-afternoon-12/
LOCATION:Elspeth Reid Family Resource Centre\, 255 – 9th Street\, Brandon\, MB\, R7A 6X1\, Canada
CATEGORIES:Family Activities
END:VEVENT
BEGIN:VEVENT
DTSTART;TZID=America/Los_Angeles:20231127T180000
DTEND;TZID=America/Los_Angeles:20231127T200000
DTSTAMP:20260419T071007
CREATED:20230914T193251Z
LAST-MODIFIED:20230914T193251Z
UID:4457-1701108000-1701115200@cfswestern.mb.ca
SUMMARY:POSITIVE DISCIPLINE EVENING
DESCRIPTION:This program is helpful with strengthening parent-child relationships from ages 0-17 years. It enhances parent/child problem-solving skills and promotes emotional self-regulation of both parents and children. \nMonday Evenings: 6:00 – 8:00 p.m. September 25 – November 27/2023
URL:https://cfswestern.mb.ca/event/positive-discipline-evening-8/
LOCATION:Elspeth Reid Family Resource Centre\, 255 – 9th Street\, Brandon\, MB\, R7A 6X1\, Canada
CATEGORIES:Parent Education
END:VEVENT
BEGIN:VEVENT
DTSTART;TZID=America/Los_Angeles:20231128T100000
DTEND;TZID=America/Los_Angeles:20231128T111500
DTSTAMP:20260419T071007
CREATED:20230828T231547Z
LAST-MODIFIED:20230828T231547Z
UID:4111-1701165600-1701170100@cfswestern.mb.ca
SUMMARY:PAJAMA PARTY!
DESCRIPTION:Parents and children (2-5 years old) can wear their pajama’s\, and their favourite slippers or socks. If your child has a special stuffed animal\, bring it along for our story time GOODNIGHT MOON while we eat our tasty snack. We will enjoy crafts\, songs\, and play some fun games with our parachute. \n  \nTuesday Morning: 10:00 – 11:15 a.m. November 28/2023
URL:https://cfswestern.mb.ca/event/pajama-party/
LOCATION:Elspeth Reid Family Resource Centre\, 255 – 9th Street\, Brandon\, MB\, R7A 6X1\, Canada
CATEGORIES:Family Activities
END:VEVENT
BEGIN:VEVENT
DTSTART;TZID=America/Los_Angeles:20231128T133000
DTEND;TZID=America/Los_Angeles:20231128T151500
DTSTAMP:20260419T071007
CREATED:20230831T200714Z
LAST-MODIFIED:20230831T200714Z
UID:4270-1701178200-1701184500@cfswestern.mb.ca
SUMMARY:KEYS TO ATTACHMENT
DESCRIPTION:Parents\, come join us for 4 weeks to discuss keys to building a healthy and secure attachment. We will focus on the importance of providing comfort\, consistency\, attunement\, and self-care\, and discuss why these keys are essential for a trusting\, healthy\, relationship with your child. \nTuesday Afternoons: 1:30 – 3:15 p.m. Nov. 21 – December 12/2023
URL:https://cfswestern.mb.ca/event/keys-to-attachment-2/
LOCATION:Elspeth Reid Family Resource Centre\, 255 – 9th Street\, Brandon\, MB\, R7A 6X1\, Canada
CATEGORIES:Parent Education
END:VEVENT
BEGIN:VEVENT
DTSTART;TZID=America/Los_Angeles:20231130T093000
DTEND;TZID=America/Los_Angeles:20231130T111500
DTSTAMP:20260419T071007
CREATED:20230831T195833Z
LAST-MODIFIED:20230831T195833Z
UID:4254-1701336600-1701342900@cfswestern.mb.ca
SUMMARY:BEFORE YOU DISCIPLINE YOUR CHILD\, ASK YOURSELF THESE 3 QUESTIONS
DESCRIPTION:Come join us for four sessions to learn how to PAUSE before you jump to discipline or punishment\, always chase the Why to figure out the child’s behavior\, and once we understand our child\, we can then teach them to engage in the world in healthier ways! (4-week course) \nThursday Mornings: 9:30-11:15 a.m. Nov. 9 – Nov. 30/2023
URL:https://cfswestern.mb.ca/event/before-you-discipline-your-child-ask-yourself-these-3-questions-3/
LOCATION:Elspeth Reid Family Resource Centre\, 255 – 9th Street\, Brandon\, MB\, R7A 6X1\, Canada
CATEGORIES:Parent Education
END:VEVENT
BEGIN:VEVENT
DTSTART;TZID=America/Los_Angeles:20231130T133000
DTEND;TZID=America/Los_Angeles:20231130T151500
DTSTAMP:20260419T071007
CREATED:20230831T200428Z
LAST-MODIFIED:20230831T200428Z
UID:4264-1701351000-1701357300@cfswestern.mb.ca
SUMMARY:HANDLE WITH CARE
DESCRIPTION:Parents of children ages 0-6 years are welcome to join us for a program about promoting the mental health of children. This program celebrates parents\, teaches problem solving\, promotes and enhances self-esteem and focuses on building trusting relationships. \nThursday Afternoons: 1:30 – 3:15 p.m. Nov. 9 – December 14/2023
URL:https://cfswestern.mb.ca/event/handle-with-care-4/
LOCATION:Elspeth Reid Family Resource Centre\, 255 – 9th Street\, Brandon\, MB\, R7A 6X1\, Canada
CATEGORIES:Parent Education
END:VEVENT
END:VCALENDAR